BEGIN:VCALENDAR
VERSION:2.0
PRODID:-//Shari Billger - ECPv6.13.2.1//NONSGML v1.0//EN
CALSCALE:GREGORIAN
METHOD:PUBLISH
X-ORIGINAL-URL:https://sharibillger.com
X-WR-CALDESC:Events for Shari Billger
REFRESH-INTERVAL;VALUE=DURATION:PT1H
X-Robots-Tag:noindex
X-PUBLISHED-TTL:PT1H
BEGIN:VTIMEZONE
TZID:America/Denver
BEGIN:DAYLIGHT
TZOFFSETFROM:-0700
TZOFFSETTO:-0600
TZNAME:MDT
DTSTART:20080309T090000
END:DAYLIGHT
BEGIN:STANDARD
TZOFFSETFROM:-0600
TZOFFSETTO:-0700
TZNAME:MST
DTSTART:20081102T080000
END:STANDARD
BEGIN:DAYLIGHT
TZOFFSETFROM:-0700
TZOFFSETTO:-0600
TZNAME:MDT
DTSTART:20090308T090000
END:DAYLIGHT
BEGIN:STANDARD
TZOFFSETFROM:-0600
TZOFFSETTO:-0700
TZNAME:MST
DTSTART:20091101T080000
END:STANDARD
BEGIN:DAYLIGHT
TZOFFSETFROM:-0700
TZOFFSETTO:-0600
TZNAME:MDT
DTSTART:20100314T090000
END:DAYLIGHT
BEGIN:STANDARD
TZOFFSETFROM:-0600
TZOFFSETTO:-0700
TZNAME:MST
DTSTART:20101107T080000
END:STANDARD
BEGIN:DAYLIGHT
TZOFFSETFROM:-0700
TZOFFSETTO:-0600
TZNAME:MDT
DTSTART:20110313T090000
END:DAYLIGHT
BEGIN:STANDARD
TZOFFSETFROM:-0600
TZOFFSETTO:-0700
TZNAME:MST
DTSTART:20111106T080000
END:STANDARD
END:VTIMEZONE
BEGIN:VEVENT
DTSTART;VALUE=DATE:20110209
DTEND;VALUE=DATE:20110210
DTSTAMP:20260424T081822
CREATED:20160116T021150Z
LAST-MODIFIED:20160116T021150Z
UID:791-1297209600-1297295999@sharibillger.com
SUMMARY:Private Healing Sessions
DESCRIPTION:Draper\, Utah
URL:https://sharibillger.com/event/private-healing-sessions/
LOCATION:CO
END:VEVENT
BEGIN:VEVENT
DTSTART;VALUE=DATE:20080209
DTEND;VALUE=DATE:20080211
DTSTAMP:20260424T081822
CREATED:20160112T030420Z
LAST-MODIFIED:20160113T053252Z
UID:581-1202515200-1202687999@sharibillger.com
SUMMARY:Human Design Living Your Design
DESCRIPTION:  \nIn 1987 a supernova (death of a star) exploded bombarding our planet for several minutes with a deluge of subatomic information with its dying breath.  When it actually reached us\, everybody on this planet received three times as many Neutrinos as normal (prana).  Around the same time on a Mediterranean island called Ibiza a man had a deep shock experience on January 3 of that year. This mystical experience lasted eight days and eight nights.  He was given immensely detailed descriptions of how our universe functions\, and out of this he was given the Human Design system.\n\nWhat does it mean to live my design?  It is actually a very simple thing.  It is another way of showing a person how to be themselves.  From the moment we are born we are conditioned by others to be our not-selves.  Human Design is a synthesis.  For something to be a true synthesis it must include everything.  Human Design contains all systems from all walks of life because it is founded on fundamental genetic principles.  Another way to describe Human Design is as a mutation.  It is a mutation of consciousness itself\, and as such it spreads quickly.  It spreads through the living cells of our bodies\, even while it enters through our minds.  Once we have heard our true genetic strategies\, whenever we forget to follow them\, this remembrance inside us flares up again\, and again\, and again\, until we get it.  Human Design is a way to finally begin to live your true\, authentic self.  It is a bridge to living as highly evolved being societies live\, something that many of us are striving towards.\n\nNote:  This workshop is of great benefit to those who coach or council others.  It will assist you in guiding them to live their strategy so they can stop meeting resistance and begin to live as their true selves.\n\nYou will learn what your Human Design is.\nYou will learn what your strategy is.\nYou will learn what your inner authority is.\nYou will learn about each of the five types.\nYou will learn about each of the nine centers.\nYou will learn what each of those centers mean when they are defined and undefined.\nYou will learn how to use this information to finally begin to live your true authentic self.\nYou will learn how to understand others better by understanding how other types and designs operate.\nYou will learn how to use this information to improve and accelerate your journey and more………\nYou will begin your deconditioning process\, the deconditioning of the not-self.\nYou will be embarking on your journey to living how highly evolved being societies live.\nYou will finally begin to live as your true\, authentic self.\n\nDate:  February 9 & 10\, 2008\nTime:  10:00 am to 5:00 pm\nLocation:  Woodland Park\, Colorado\nCoordinator:  Sacred Hoop Ministries\nEnergy Exchange:  $233 ($100 deposit required)\n\nNote: Your time\, place and date of birth is needed prior to attendance as Shari needs to do your personal chart.\nPayments are non-refundable.  If you should choose to cancel for any reason your deposit will be transferable to another workshop\n\nFacilitated by Shari Billger.
URL:https://sharibillger.com/event/human-design-living-your-design/
LOCATION:CO
END:VEVENT
END:VCALENDAR